BEGIN:VCALENDAR
VERSION:2.0
PRODID:-//Pfarramt fÃ¼r AuslÃ¤nderarbeit - ECPv4.1.2//NONSGML v1.0//EN
CALSCALE:GREGORIAN
METHOD:PUBLISH
X-WR-CALNAME:Pfarramt fÃ¼r AuslÃ¤nderarbeit
X-ORIGINAL-URL:http://auslaenderpfarramt.de
X-WR-CALDESC:Events for Pfarramt fÃ¼r AuslÃ¤nderarbeit
BEGIN:VEVENT
DTSTART;TZID=Europe/Berlin:20160514T200000
DTEND;TZID=Europe/Berlin:20160514T200000
DTSTAMP:20260422T134411
CREATED:20160428T130555
LAST-MODIFIED:20160502T083108
UID:6549-1463256000-1463256000@auslaenderpfarramt.de
SUMMARY:Strom und Wasser & the Refugees
DESCRIPTION:FlÃ¼chtlinge leben in Deutschland meist abgeschottet in eigens dafÃ¼r eingerichteten Heimen. Ihr Leben findet im Verborgenen statt. Der Musiker und Schriftsteller Heinz Ratz holt sie jetzt ins Rampenlicht: "Strom und Wasser featuring The Refugees" heiÃŸt das Projekt\, das Ratz mit KÃ¼nstlern aus aller Welt betreibt.\n\n \n\n 
URL:http://auslaenderpfarramt.de/veranstaltung/stromwasser/
LOCATION:PlanigerstraÃŸe 29\, Bad Kreuznach\, 55543
ATTACH;FMTTYPE=image/jpeg:http://auslaenderpfarramt.de/wp-content/uploads/2016/05/hEINZ-rATZ.jpg
END:VEVENT
END:VCALENDAR