BEGIN:VCALENDAR
VERSION:2.0
PRODID:-//Pfarramt für Ausländerarbeit - ECPv4.1.2//NONSGML v1.0//EN
CALSCALE:GREGORIAN
METHOD:PUBLISH
X-WR-CALNAME:Pfarramt für Ausländerarbeit
X-ORIGINAL-URL:http://auslaenderpfarramt.de
X-WR-CALDESC:Events for Pfarramt für Ausländerarbeit
BEGIN:VEVENT
DTSTART;TZID=UTC+1:20170428T183000
DTEND;TZID=UTC+1:20170428T203000
DTSTAMP:20260422T084339
CREATED:20170426T080012
LAST-MODIFIED:20170426T080012
UID:6963-1493404200-1493411400@auslaenderpfarramt.de
SUMMARY:Lesung und Film mit Michael Richter - "Neue Heimat Deutschland"
DESCRIPTION:"Neue Heimat Deutschland"\nMichael Richter liest aus seinem Buch "Neue Heimat Deutschland"\n\n»Wir schaffen das«\, hatte die Kanzlerin angesichts des Flüchtlingsstroms verkündet. Bei so viel Optimismus setzte der deutsche Abwehrreflexunverzüglich ein: »Vielleicht. Aber wie?« - Indem wir weitermachen\, wie wir im vergangenen Jahr begonnen haben\, erklärt der Filmemacher und Autor Michael Richter. Viel bleibt noch zu tun\, aber fest steht: Überall im Land gelingt Integration sehr überzeugend!\n\nAuf gutem Weg in die neue Heimat Deutschland ist auch die in Guldental lebende Familie Berisha. Im Mai 2016 wurde sie aufgrund eines Behördenfehlers in den Kosovo abgeschoben und das BAMF musste die Berishas wieder zurück holen. Nun hat die Härtefallkommission des Landes ein Bleiberecht verfügt.\n\nMichael Richters Film "Entscheider unter Druck" - hat ausführlich über die Geschichte der Familie berichtet. Der Film erzählt über die Fehler des BAMF in diesen und in anderen Fällen. Den Film schauen wir uns gemeinsam mit Familie Berisha an. In der Pause gibt es einen kleinen Imbiss.
URL:http://auslaenderpfarramt.de/veranstaltung/lesung-und-film-mit-michael-richter-neue-heimat-deutschland/
LOCATION:Kurhausstraße 6\, Bad Kreuznach\, 55543\, Deutschland
END:VEVENT
END:VCALENDAR