BEGIN:VCALENDAR
VERSION:2.0
PRODID:-//Pfarramt für Ausländerarbeit - ECPv4.1.2//NONSGML v1.0//EN
CALSCALE:GREGORIAN
METHOD:PUBLISH
X-WR-CALNAME:Pfarramt für Ausländerarbeit
X-ORIGINAL-URL:http://auslaenderpfarramt.de
X-WR-CALDESC:Events for Pfarramt für Ausländerarbeit
BEGIN:VEVENT
DTSTART;TZID=UTC+1:20161109T190000
DTEND;TZID=UTC+1:20161109T210000
DTSTAMP:20260422T103933
CREATED:20161027T064322
LAST-MODIFIED:20161027T064506
UID:6815-1478718000-1478725200@auslaenderpfarramt.de
SUMMARY:Film: „Der Tod\, die Waffen\, das Schweigen – Das Oberndorf-Syndrom“
DESCRIPTION:Bewegender Dokumentarfilm über eine kleine Stadt am Schwarzwaldrand\, die von der Waffenproduktion lebt. Heckler & Koch produziert dort Kleinwaffen\, u.a. die Sturmgewehre G3 und G36. Kleinwaffen – wie Pistolen\, Maschinenpistolen und Gewehre – sind weltweit für mehr Tote\, Verletzte und Flüchtlinge verantwortlich als jede andere Waffenart. Befürworter/innen der Rüstungsproduktion kommen zu Wort genauso wie Gegner/innen. Der Film wirkt fast beschaulich\, wären da nicht die brutalen Szenen\, in denen ein Chirurg zeigt\, was eine Kugel im Körper eines Menschen anrichten kann. Gezeigt werden auch Kriegsschauplätze im Nahen Osten\, in Afrika und auf dem Balkan\, wo mit Heckler & Koch-Waffen gekämpft wurde und wird. Es sind die Erzählungen von Opfern\, die der Waffenproduktion einen schalen Geschmack verpassen.
URL:http://auslaenderpfarramt.de/veranstaltung/film-der-tod-die-waffen-das-schweigen-das-oberndorf-syndrom/
LOCATION:Wassersümpfchen 23\, Bad Kreuznach\, 55543\, Deutschland
ATTACH;FMTTYPE=image/jpeg:http://auslaenderpfarramt.de/wp-content/uploads/2016/03/film_cover_oberndorf_syndrom.jpg
END:VEVENT
END:VCALENDAR