BEGIN:VCALENDAR
VERSION:2.0
PRODID:-//Pfarramt fÃ¼r AuslÃ¤nderarbeit - ECPv4.1.2//NONSGML v1.0//EN
CALSCALE:GREGORIAN
METHOD:PUBLISH
X-WR-CALNAME:Pfarramt fÃ¼r AuslÃ¤nderarbeit
X-ORIGINAL-URL:http://auslaenderpfarramt.de
X-WR-CALDESC:Events for Pfarramt fÃ¼r AuslÃ¤nderarbeit
BEGIN:VEVENT
DTSTART;TZID=UTC+1:20170909T120000
DTEND;TZID=UTC+1:20170909T180000
DTSTAMP:20260420T162729
CREATED:20170816T071547
LAST-MODIFIED:20170816T071547
UID:7018-1504958400-1504980000@auslaenderpfarramt.de
SUMMARY:Fest zur Interkulturellen Woche an der Pauluskirche
DESCRIPTION:Am 09.09.2017 findet das Fest zur Interkulturelle Woche an der Pauluskirche statt.\n\n \n\nIn der PDF findet ihr den Flyer zur Veranstaltung: Â Â Plakat IKW 2017
URL:http://auslaenderpfarramt.de/veranstaltung/fest-zur-interkulturellen-woche-an-der-pauluskirche/
LOCATION:KurhausstraÃŸe 4\, Bad Kreuznach\, Rheinland-Pfalz\, 55543\, Deutschland
END:VEVENT
END:VCALENDAR